Workbook

Sheet README
A1: The Last Mile workbook, version 1.0, 2026-10-25
A2: A hand-off review for Mitten Extracts. Prepared by Mousa Batarseh. Independent, not affiliated with Mitten Extracts.
A4: What each sheet does
A5: Products: the 43 cartridges observed on mittenextracts.com/collections/cartridges, with missing fields counted and a fix written per row.
A6: Retailer Hand-offs: every "Buy at" link on a product page, where the click lands, hops left to reach the product, and a score from 0 to 3.
A7: Trace Log: one row per trace from the Last Mile Tracer. Hops, decisions, modeled seconds, leak points, competitor SKUs shown.
A8: Deep-Link Map: the link each product should carry at each stocking store, with the last shipment date and a freshness status.
A9: Impostor Watch: unaffiliated domains that rank for "buy mitten extracts online", with an action and an owner.
A11: Time model
A12: 4 seconds per page load, 10 seconds per decision screen, 3 seconds to add to cart. An assumption. Replace it with your analytics.
A14: Data labels
A15: Observed: seen on the live page on the date in the Checked column. Modeled: calculated with the time model above. Sample: invented for the demo and labeled in the notes column.
... A30: © 2026 Mousa Batarseh. All rights reserved. Free to use inside Mitten Extracts for this review.

Sheet Products
A1: Summary
A2: Total products | B2: =COUNTA(A8:A50) -> 43
A3: Missing effects | B3: =COUNTBLANK(E8:E50) -> 21
A4: Missing type | B4: =COUNTBLANK(D8:D50) -> 11
A5: Completeness | B5: =1-SUM(I8:I50)/(5*COUNTA(A8:A50)) -> 0.45581395
A7: handle | B7: title | C7: category | D7: product_type | E7: effects | F7: terpenes | G7: weight | H7: coa_url | I7: missing_count | J7: fix | K7: owner | L7: due | M7: checked
A8: apple-fritter-1g-vape-cartridge | B8: Apple Fritter 1g Vape Cartridge | C8: Cartridges | D8: hybrid | E8: Blissful, Energized, Relaxed | G8: 1g | I8: =COUNTBLANK(D8:H8) -> 2 | J8: =IF(I8=0,"complete",_xlfn.TEXTJOIN(", ",TRUE(),IF(D8="","type",""),IF(E8="","effects",""),IF(F8="","terpenes",""),IF(G8="","weight",""),IF(H8="","lab link",""))) -> terpenes, lab link | M8: 2026-10-25
A9: blue-dream-1g-vape-cartridge | B9: Blue Dream 1g Vape Cartridge | C9: Cartridges | D9: sativa | E9: Creative, Energized, Happy | G9: 1g | I9: =COUNTBLANK(D9:H9) -> 2 | J9: =IF(I9=0,"complete",_xlfn.TEXTJOIN(", ",TRUE(),IF(D9="","type",""),IF(E9="","effects",""),IF(F9="","terpenes",""),IF(G9="","weight",""),IF(H9="","lab link",""))) -> terpenes, lab link | M9: 2026-10-25
A10: blue-dream-2g-vape-cartridge | B10: Blue Dream 2g Vape Cartridge | C10: Cartridges | G10: 2g | I10: =COUNTBLANK(D10:H10) -> 4 | J10: =IF(I10=0,"complete",_xlfn.TEXTJOIN(", ",TRUE(),IF(D10="","type",""),IF(E10="","effects",""),IF(F10="","terpenes",""),IF(G10="","weight",""),IF(H10="","lab link",""))) -> type, effects, terpenes, lab link | M10: 2026-10-25
A11: blue-zkittles-1g-vape-cartridge | B11: Blue Z 1g Vape Cartridge | C11: Cartridges | D11: indica | E11: Calm, Cheerful, Relaxed | G11: 1g | I11: =COUNTBLANK(D11:H11) -> 2 | J11: =IF(I11=0,"complete",_xlfn.TEXTJOIN(", ",TRUE(),IF(D11="","type",""),IF(E11="","effects",""),IF(F11="","terpenes",""),IF(G11="","weight",""),IF(H11="","lab link",""))) -> terpenes, lab link | M11: 2026-10-25
A12: blueberry-afgoo-1g-vape-cartridge | B12: Blueberry Afgoo 1g Vape Cartridge | C12: Cartridges | D12: indica | E12: Blissful, Relaxed, Sleepy | G12: 1g | I12: =COUNTBLANK(D12:H12) -> 2 | J12: =IF(I12=0,"complete",_xlfn.TEXTJOIN(", ",TRUE(),IF(D12="","type",""),IF(E12="","effects",""),IF(F12="","terpenes",""),IF(G12="","weight",""),IF(H12="","lab link",""))) -> terpenes, lab link | M12: 2026-10-25
A13: blueberry-pie-2g-vape-cartridge | B13: Blueberry Pie 2g Vape Cartridge | C13: Cartridges | G13: 2g | I13: =COUNTBLANK(D13:H13) -> 4 | J13: =IF(I13=0,"complete",_xlfn.TEXTJOIN(", ",TRUE(),IF(D13="","type",""),IF(E13="","effects",""),IF(F13="","terpenes",""),IF(G13="","weight",""),IF(H13="","lab link",""))) -> type, effects, terpenes, lab link | M13: 2026-10-25
A14: bubba-kush-1g-vape-cartridge | B14: Bubba Kush 1g Vape Cartridge | C14: Cartridges | D14: indica | E14: Calm, Relaxed, Sleepy | G14: 1g | I14: =COUNTBLANK(D14:H14) -> 2 | J14: =IF(I14=0,"complete",_xlfn.TEXTJOIN(", ",TRUE(),IF(D14="","type",""),IF(E14="","effects",""),IF(F14="","terpenes",""),IF(G14="","weight",""),IF(H14="","lab link",""))) -> terpenes, lab link | M14: 2026-10-25
A15: gelato-33-1g-vape-cartridge | B15: Gelato #33 1g Vape Cartridge | C15: Cartridges | D15: hybrid | E15: Creative, Focused, Uplifted | G15: 1g | I15: =COUNTBLANK(D15:H15) -> 2 | J15: =IF(I15=0,"complete",_xlfn.TEXTJOIN(", ",TRUE(),IF(D15="","type",""),IF(E15="","effects",""),IF(F15="","terpenes",""),IF(G15="","weight",""),IF(H15="","lab link",""))) -> terpenes, lab link | M15: 2026-10-25
A16: gelonade-1g-vape-cartridge | B16: Gelonade 1g Vape Cartridge | C16: Cartridges | D16: hybrid | E16: Creative, Focused, Uplifted | G16: 1g | I16: =COUNTBLANK(D16:H16) -> 2 | J16: =IF(I16=0,"complete",_xlfn.TEXTJOIN(", ",TRUE(),IF(D16="","type",""),IF(E16="","effects",""),IF(F16="","terpenes",""),IF(G16="","weight",""),IF(H16="","lab link",""))) -> terpenes, lab link | M16: 2026-10-25
A17: ghost-biscotti-1g-vape-cartridge | B17: Ghost Biscotti 1g Vape Cartridge | C17: Cartridges | D17: indica | E17: Calm, Happy, Relaxed | G17: 1g | I17: =COUNTBLANK(D17:H17) -> 2 | J17: =IF(I17=0,"complete",_xlfn.TEXTJOIN(", ",TRUE(),IF(D17="","type",""),IF(E17="","effects",""),IF(F17="","terpenes",""),IF(G17="","weight",""),IF(H17="","lab link",""))) -> terpenes, lab link | M17: 2026-10-25
A18: gruntz-1g-vape-cartridge | B18: Gruntz 1g Vape Cartridge | C18: Cartridges | D18: hybrid | G18: 1g | I18: =COUNTBLANK(D18:H18) -> 3 | J18: =IF(I18=0,"complete",_xlfn.TEXTJOIN(", ",TRUE(),IF(D18="","type",""),IF(E18="","effects",""),IF(F18="","terpenes",""),IF(G18="","weight",""),IF(H18="","lab link",""))) -> effects, terpenes, lab link | M18: 2026-10-25
A19: gushers-2g-vape-cartridge | B19: Gushers 2g Vape Cartridge | C19: Cartridges | G19: 2g | I19: =COUNTBLANK(D19:H19) -> 4 | J19: =IF(I19=0,"complete",_xlfn.TEXTJOIN(", ",TRUE(),IF(D19="","type",""),IF(E19="","effects",""),IF(F19="","terpenes",""),IF(G19="","weight",""),IF(H19="","lab link",""))) -> type, effects, terpenes, lab link | M19: 2026-10-25
A20: honeydew-1g-vape-cartridge | B20: Honeydew 1g Vape Cartridge | C20: Cartridges | D20: hybrid | G20: 1g | I20: =COUNTBLANK(D20:H20) -> 3 | J20: =IF(I20=0,"complete",_xlfn.TEXTJOIN(", ",TRUE(),IF(D20="","type",""),IF(E20="","effects",""),IF(F20="","terpenes",""),IF(G20="","weight",""),IF(H20="","lab link",""))) -> effects, terpenes, lab link | M20: 2026-10-25
A21: ice-berry-gelato-1g-vape-cartridge | B21: Ice Berry Gelato 1g Vape Cartridge | C21: Cartridges | D21: hybrid | G21: 1g | I21: =COUNTBLANK(D21:H21) -> 3 | J21: =IF(I21=0,"complete",_xlfn.TEXTJOIN(", ",TRUE(),IF(D21="","type",""),IF(E21="","effects",""),IF(F21="","terpenes",""),IF(G21="","weight",""),IF(H21="","lab link",""))) -> effects, terpenes, lab link | M21: 2026-10-25
A22: ice-berry-gelato-2g-vape-cartridge | B22: Ice Berry Gelato 2g Vape Cartridge | C22: Cartridges | G22: 2g | I22: =COUNTBLANK(D22:H22) -> 4 | J22: =IF(I22=0,"complete",_xlfn.TEXTJOIN(", ",TRUE(),IF(D22="","type",""),IF(E22="","effects",""),IF(F22="","terpenes",""),IF(G22="","weight",""),IF(H22="","lab link",""))) -> type, effects, terpenes, lab link | M22: 2026-10-25
A23: lemon-cherry-gelato-1g-vape-cartridge | B23: Lemon Cherry Gelato 1g Vape Cartridge | C23: Cartridges | D23: hybrid | E23: Creative, Happy, Relaxed | G23: 1g | I23: =COUNTBLANK(D23:H23) -> 2 | J23: =IF(I23=0,"complete",_xlfn.TEXTJOIN(", ",TRUE(),IF(D23="","type",""),IF(E23="","effects",""),IF(F23="","terpenes",""),IF(G23="","weight",""),IF(H23="","lab link",""))) -> terpenes, lab link | M23: 2026-10-25
A24: london-pound-cake-1g-vape-cartridge | B24: London Pound Cake 1g Vape Cartridge | C24: Cartridges | D24: hybrid | E24: Creative, Happy, Relaxed | G24: 1g | I24: =COUNTBLANK(D24:H24) -> 2 | J24: =IF(I24=0,"complete",_xlfn.TEXTJOIN(", ",TRUE(),IF(D24="","type",""),IF(E24="","effects",""),IF(F24="","terpenes",""),IF(G24="","weight",""),IF(H24="","lab link",""))) -> terpenes, lab link | M24: 2026-10-25
A25: mac-1g-vape-cartridge | B25: MAC 1g Vape Cartridge | C25: Cartridges | D25: hybrid | E25: Blissful, Energized, Relaxed | G25: 1g | I25: =COUNTBLANK(D25:H25) -> 2 | J25: =IF(I25=0,"complete",_xlfn.TEXTJOIN(", ",TRUE(),IF(D25="","type",""),IF(E25="","effects",""),IF(F25="","terpenes",""),IF(G25="","weight",""),IF(H25="","lab link",""))) -> terpenes, lab link | M25: 2026-10-25
A26: mango-diesel-1g-vape-cartridge | B26: Mango Diesel 1g Vape Cartridge | C26: Cartridges | D26: sativa | E26: Creative, Energized, Uplifted | G26: 1g | I26: =COUNTBLANK(D26:H26) -> 2 | J26: =IF(I26=0,"complete",_xlfn.TEXTJOIN(", ",TRUE(),IF(D26="","type",""),IF(E26="","effects",""),IF(F26="","terpenes",""),IF(G26="","weight",""),IF(H26="","lab link",""))) -> terpenes, lab link | M26: 2026-10-25
A27: mango-zlurpee-1g-vape-cartridge | B27: Mango Zlurpee 1g Vape Cartridge | C27: Cartridges | D27: Indica | G27: 1g | I27: =COUNTBLANK(D27:H27) -> 3 | J27: =IF(I27=0,"complete",_xlfn.TEXTJOIN(", ",TRUE(),IF(D27="","type",""),IF(E27="","effects",""),IF(F27="","terpenes",""),IF(G27="","weight",""),IF(H27="","lab link",""))) -> effects, terpenes, lab link | M27: 2026-10-25
A28: mitten-cherries-2g-vape-cartridge | B28: Mitten Cherries 2g Vape Cartridge | C28: Cartridges | G28: 2g | I28: =COUNTBLANK(D28:H28) -> 4 | J28: =IF(I28=0,"complete",_xlfn.TEXTJOIN(", ",TRUE(),IF(D28="","type",""),IF(E28="","effects",""),IF(F28="","terpenes",""),IF(G28="","weight",""),IF(H28="","lab link",""))) -> type, effects, terpenes, lab link | M28: 2026-10-25
A29: mowie-wowie-2g-vape-cartridge | B29: Mowie Wowie 2g Vape Cartridge | C29: Cartridges | G29: 2g | I29: =COUNTBLANK(D29:H29) -> 4 | J29: =IF(I29=0,"complete",_xlfn.TEXTJOIN(", ",TRUE(),IF(D29="","type",""),IF(E29="","effects",""),IF(F29="","terpenes",""),IF(G29="","weight",""),IF(H29="","lab link",""))) -> type, effects, terpenes, lab link | M29: 2026-10-25
A30: og-kush-2g-vape-cartridge | B30: OG Kush 2g Vape Cartridge | C30: Cartridges | G30: 2g | I30: =COUNTBLANK(D30:H30) -> 4 | J30: =IF(I30=0,"complete",_xlfn.TEXTJOIN(", ",TRUE(),IF(D30="","type",""),IF(E30="","effects",""),IF(F30="","terpenes",""),IF(G30="","weight",""),IF(H30="","lab link",""))) -> type, effects, terpenes, lab link | M30: 2026-10-25
A31: passion-orange-guava-1g-vape-cartridge | B31: Passion Orange Guava 1g Vape Cartridge | C31: Cartridges | D31: hybrid | G31: 1g | I31: =COUNTBLANK(D31:H31) -> 3 | J31: =IF(I31=0,"complete",_xlfn.TEXTJOIN(", ",TRUE(),IF(D31="","type",""),IF(E31="","effects",""),IF(F31="","terpenes",""),IF(G31="","weight",""),IF(H31="","lab link",""))) -> effects, terpenes, lab link | M31: 2026-10-25
A32: peach-kush-1g-vape-cartridge | B32: Peach Kush 1g Vape Cartridge | C32: Cartridges | D32: hybrid | E32: Focused, Relaxed, Uplifted | G32: 1g | I32: =COUNTBLANK(D32:H32) -> 2 | J32: =IF(I32=0,"complete",_xlfn.TEXTJOIN(", ",TRUE(),IF(D32="","type",""),IF(E32="","effects",""),IF(F32="","terpenes",""),IF(G32="","weight",""),IF(H32="","lab link",""))) -> terpenes, lab link | M32: 2026-10-25
A33: peach-smoothie-2g-vape-cartridge | B33: Peach Smoothie 2g Vape Cartridge | C33: Cartridges | G33: 2g | I33: =COUNTBLANK(D33:H33) -> 4 | J33: =IF(I33=0,"complete",_xlfn.TEXTJOIN(", ",TRUE(),IF(D33="","type",""),IF(E33="","effects",""),IF(F33="","terpenes",""),IF(G33="","weight",""),IF(H33="","lab link",""))) -> type, effects, terpenes, lab link | M33: 2026-10-25
A34: peach-zlurpee-1g-vape-cartridge | B34: Peach Zlurpee 1g Vape Cartridge | C34: Cartridges | D34: hybrid | G34: 1g | I34: =COUNTBLANK(D34:H34) -> 3 | J34: =IF(I34=0,"complete",_xlfn.TEXTJOIN(", ",TRUE(),IF(D34="","type",""),IF(E34="","effects",""),IF(F34="","terpenes",""),IF(G34="","weight",""),IF(H34="","lab link",""))) -> effects, terpenes, lab link | M34: 2026-10-25
A35: pina-colada-zlurpee-1g-vape-cartridge | B35: Pina Colada Zlurpee 1g Vape Cartridge | C35: Cartridges | D35: sativa | G35: 1g | I35: =COUNTBLANK(D35:H35) -> 3 | J35: =IF(I35=0,"complete",_xlfn.TEXTJOIN(", ",TRUE(),IF(D35="","type",""),IF(E35="","effects",""),IF(F35="","terpenes",""),IF(G35="","weight",""),IF(H35="","lab link",""))) -> effects, terpenes, lab link | M35: 2026-10-25
A36: pink-lemonade-1g-vape-cartridge | B36: Pink Lemonade 1g Vape Cartridge | C36: Cartridges | D36: indica | E36: Calm, Creative, Focused | G36: 1g | I36: =COUNTBLANK(D36:H36) -> 2 | J36: =IF(I36=0,"complete",_xlfn.TEXTJOIN(", ",TRUE(),IF(D36="","type",""),IF(E36="","effects",""),IF(F36="","terpenes",""),IF(G36="","weight",""),IF(H36="","lab link",""))) -> terpenes, lab link | M36: 2026-10-25
A37: purple-punch-1g-vape-cartridge | B37: Purple Punch 1g Vape Cartridge | C37: Cartridges | D37: indica | E37: Calm, Happy, Relaxed | G37: 1g | I37: =COUNTBLANK(D37:H37) -> 2 | J37: =IF(I37=0,"complete",_xlfn.TEXTJOIN(", ",TRUE(),IF(D37="","type",""),IF(E37="","effects",""),IF(F37="","terpenes",""),IF(G37="","weight",""),IF(H37="","lab link",""))) -> terpenes, lab link | M37: 2026-10-25
A38: rainbow-sherbet-2g-vape-cartridge | B38: Rainbow Sherbet 2g Vape Cartridge | C38: Cartridges | G38: 2g | I38: =COUNTBLANK(D38:H38) -> 4 | J38: =IF(I38=0,"complete",_xlfn.TEXTJOIN(", ",TRUE(),IF(D38="","type",""),IF(E38="","effects",""),IF(F38="","terpenes",""),IF(G38="","weight",""),IF(H38="","lab link",""))) -> type, effects, terpenes, lab link | M38: 2026-10-25
A39: runtz-1g-vape-cartridge | B39: Runtz 1g Vape Cartridge | C39: Cartridges | D39: hybrid | G39: 1g | I39: =COUNTBLANK(D39:H39) -> 3 | J39: =IF(I39=0,"complete",_xlfn.TEXTJOIN(", ",TRUE(),IF(D39="","type",""),IF(E39="","effects",""),IF(F39="","terpenes",""),IF(G39="","weight",""),IF(H39="","lab link",""))) -> effects, terpenes, lab link | M39: 2026-10-25
A40: sour-diesel-1g-vape-cartridge | B40: Sour Diesel 1g Vape Cartridge | C40: Cartridges | D40: sativa | E40: Calm, Energized, Happy | F40: Limonene, Humulene, Caryophyllene | G40: 1g | I40: =COUNTBLANK(D40:H40) -> 1 | J40: =IF(I40=0,"complete",_xlfn.TEXTJOIN(", ",TRUE(),IF(D40="","type",""),IF(E40="","effects",""),IF(F40="","terpenes",""),IF(G40="","weight",""),IF(H40="","lab link",""))) -> lab link | M40: 2026-10-25
A41: sour-diesel-2g-vape-cartridge | B41: Sour Diesel 2g Vape Cartridge | C41: Cartridges | G41: 2g | I41: =COUNTBLANK(D41:H41) -> 4 | J41: =IF(I41=0,"complete",_xlfn.TEXTJOIN(", ",TRUE(),IF(D41="","type",""),IF(E41="","effects",""),IF(F41="","terpenes",""),IF(G41="","weight",""),IF(H41="","lab link",""))) -> type, effects, terpenes, lab link | M41: 2026-10-25
...

Sheet Retailer Hand-offs
A1: retailer | B1: link_text | C1: url_opened | D1: landing_type | E1: score | F1: hops_to_product | G1: checked | H1: owner
A2: Skymint | B2: Buy at Skymint | C2: https://skymint.com/ | D2: homepage | E2: =IFERROR(VLOOKUP(D2,Scores!A:B,2,FALSE()),"") -> 0 | F2: =IFERROR(VLOOKUP(D2,Scores!A:C,3,FALSE()),"") -> 4 | G2: 2026-10-25
A3: King of Budz | B3: Buy at King of Budz | C3: https://kingofbudz.com/ | D3: homepage | E3: =IFERROR(VLOOKUP(D3,Scores!A:B,2,FALSE()),"") -> 0 | F3: =IFERROR(VLOOKUP(D3,Scores!A:C,3,FALSE()),"") -> 4 | G3: 2026-10-25
A4: Jars | B4: Buy at Jars | C4: https://jarscannabis.com/find-a-dispensary | D4: store list | E4: =IFERROR(VLOOKUP(D4,Scores!A:B,2,FALSE()),"") -> 1 | F4: =IFERROR(VLOOKUP(D4,Scores!A:C,3,FALSE()),"") -> 3 | G4: 2026-10-25
A5: Cloud | B5: Buy at Cloud | C5: https://cloudcannabis.com/ | D5: homepage | E5: =IFERROR(VLOOKUP(D5,Scores!A:B,2,FALSE()),"") -> 0 | F5: =IFERROR(VLOOKUP(D5,Scores!A:C,3,FALSE()),"") -> 4 | G5: 2026-10-25
A6: Puff | B6: Buy at Puff | C6: https://shoppuff.com/stores/ | D6: store list | E6: =IFERROR(VLOOKUP(D6,Scores!A:B,2,FALSE()),"") -> 1 | F6: =IFERROR(VLOOKUP(D6,Scores!A:C,3,FALSE()),"") -> 3 | G6: 2026-10-25
A7: Quality Roots | B7: Buy at Quality Roots | C7: https://getqualityroots.com/near-me/ | D7: store list | E7: =IFERROR(VLOOKUP(D7,Scores!A:B,2,FALSE()),"") -> 1 | F7: =IFERROR(VLOOKUP(D7,Scores!A:C,3,FALSE()),"") -> 3 | G7: 2026-10-25
A8: Bloomery | B8: Buy at Bloomery | C8: https://bloomerycannabis.com/ | D8: homepage | E8: =IFERROR(VLOOKUP(D8,Scores!A:B,2,FALSE()),"") -> 0 | F8: =IFERROR(VLOOKUP(D8,Scores!A:C,3,FALSE()),"") -> 4 | G8: 2026-10-25
A9: Trap Stars | B9: Buy at Trap Stars | C9: https://trapstars.co/ | D9: homepage | E9: =IFERROR(VLOOKUP(D9,Scores!A:B,2,FALSE()),"") -> 0 | F9: =IFERROR(VLOOKUP(D9,Scores!A:C,3,FALSE()),"") -> 4 | G9: 2026-10-25
D10: Average score | E10: =AVERAGE(E2:E9) -> 0.375
A12: Blank copy
A13: retailer | B13: link_text | C13: url_opened | D13: landing_type | E13: score | F13: hops_to_product | G13: checked | H13: owner
E14: =IFERROR(VLOOKUP(D14,Scores!A:B,2,FALSE()),"") | F14: =IFERROR(VLOOKUP(D14,Scores!A:C,3,FALSE()),"")
E15: =IFERROR(VLOOKUP(D15,Scores!A:B,2,FALSE()),"") | F15: =IFERROR(VLOOKUP(D15,Scores!A:C,3,FALSE()),"")
E16: =IFERROR(VLOOKUP(D16,Scores!A:B,2,FALSE()),"") | F16: =IFERROR(VLOOKUP(D16,Scores!A:C,3,FALSE()),"")
E17: =IFERROR(VLOOKUP(D17,Scores!A:B,2,FALSE()),"") | F17: =IFERROR(VLOOKUP(D17,Scores!A:C,3,FALSE()),"")
E18: =IFERROR(VLOOKUP(D18,Scores!A:B,2,FALSE()),"") | F18: =IFERROR(VLOOKUP(D18,Scores!A:C,3,FALSE()),"")
E19: =IFERROR(VLOOKUP(D19,Scores!A:B,2,FALSE()),"") | F19: =IFERROR(VLOOKUP(D19,Scores!A:C,3,FALSE()),"")
E20: =IFERROR(VLOOKUP(D20,Scores!A:B,2,FALSE()),"") | F20: =IFERROR(VLOOKUP(D20,Scores!A:C,3,FALSE()),"")
E21: =IFERROR(VLOOKUP(D21,Scores!A:B,2,FALSE()),"") | F21: =IFERROR(VLOOKUP(D21,Scores!A:C,3,FALSE()),"")
E22: =IFERROR(VLOOKUP(D22,Scores!A:B,2,FALSE()),"") | F22: =IFERROR(VLOOKUP(D22,Scores!A:C,3,FALSE()),"")
E23: =IFERROR(VLOOKUP(D23,Scores!A:B,2,FALSE()),"") | F23: =IFERROR(VLOOKUP(D23,Scores!A:C,3,FALSE()),"")

Sheet Trace Log
A1: date | B1: product | C1: zip | D1: radius | E1: path | F1: hops | G1: decisions | H1: seconds | I1: leaks | J1: competitor_skus | K1: notes
A2: 2026-10-25 | B2: Sour Diesel 1g Vape Cartridge | C2: 48092 | D2: 25 | E2: today | F2: 5 | G2: 4 | H2: 38 | I2: 3 | J2: 4 | K2: Observed hop logic, sample store data
A3: 2026-10-25 | B3: Sour Diesel 1g Vape Cartridge | C3: 48092 | D3: 25 | E3: proposed | F3: 3 | G3: 1 | H3: 7 | I3: 0 | J3: 0 | K3: Proposed shipment-data path, sample store data
E4: Average | F4: =AVERAGE(F2:F3) -> 4 | G4: =AVERAGE(G2:G3) -> 2.5 | H4: =AVERAGE(H2:H3) -> 22.5 | I4: =AVERAGE(I2:I3) -> 1.5 | J4: =AVERAGE(J2:J3) -> 2
A6: Blank copy
A7: date | B7: product | C7: zip | D7: radius | E7: path | F7: hops | G7: decisions | H7: seconds | I7: leaks | J7: competitor_skus | K7: notes

Sheet Deep-Link Map
A1: product_id | B1: product | C1: retailer | D1: store | E1: menu_platform | F1: deep_link_url | G1: link_lands_on | H1: last_shipped | I1: days_since | J1: status | K1: checked | L1: owner | M1: notes
A2: sour-diesel-1g | B2: Sour Diesel 1g Vape Cartridge | C2: Northline Provisions | D2: Northline Provisions, Warren | E2: unknown | G2: product page | H2: 46314 | I2: =IF(H2="","",TODAY()-H2) -> 6 | J2: =IF(I2="","unknown",IF(I2<=14,"fresh",IF(I2<=30,"aging","stale"))) -> fresh | K2: 2026-10-25 | M2: sample
A3: sour-diesel-1g | B3: Sour Diesel 1g Vape Cartridge | C3: Eight Mile Botanicals | D3: Eight Mile Botanicals, Warren | E3: unknown | G3: product page | H3: 46311 | I3: =IF(H3="","",TODAY()-H3) -> 9 | J3: =IF(I3="","unknown",IF(I3<=14,"fresh",IF(I3<=30,"aging","stale"))) -> fresh | K3: 2026-10-25 | M3: sample
A4: sour-diesel-1g | B4: Sour Diesel 1g Vape Cartridge | C4: Hall Road Dispensary | D4: Hall Road Dispensary, Warren | E4: unknown | G4: product page | H4: 46307 | I4: =IF(H4="","",TODAY()-H4) -> 13 | J4: =IF(I4="","unknown",IF(I4<=14,"fresh",IF(I4<=30,"aging","stale"))) -> fresh | K4: 2026-10-25 | M4: sample
A5: blue-razz-gummies | B5: Blue Razz Gummies 200mg 10-pack | C5: Cass Corridor Cannabis | D5: Cass Corridor Cannabis, Detroit | E5: unknown | G5: product page | H5: 46316 | I5: =IF(H5="","",TODAY()-H5) -> 4 | J5: =IF(I5="","unknown",IF(I5<=14,"fresh",IF(I5<=30,"aging","stale"))) -> fresh | K5: 2026-10-25 | M5: sample
A6: blue-razz-gummies | B6: Blue Razz Gummies 200mg 10-pack | C6: Riverfront Greens | D6: Riverfront Greens, Detroit | E6: unknown | G6: product page | H6: 46303 | I6: =IF(H6="","",TODAY()-H6) -> 17 | J6: =IF(I6="","unknown",IF(I6<=14,"fresh",IF(I6<=30,"aging","stale"))) -> aging | K6: 2026-10-25 | M6: sample
A7: og-kush-moon-rocks | B7: OG Kush Moon Rocks 5g | C7: Frandor Dispensary | D7: Frandor Dispensary, Lansing | E7: unknown | G7: product page | H7: 46306 | I7: =IF(H7="","",TODAY()-H7) -> 14 | J7: =IF(I7="","unknown",IF(I7<=14,"fresh",IF(I7<=30,"aging","stale"))) -> fresh | K7: 2026-10-25 | M7: sample
A9: Blank copy
A10: product_id | B10: product | C10: retailer | D10: store | E10: menu_platform | F10: deep_link_url | G10: link_lands_on | H10: last_shipped | I10: days_since | J10: status | K10: checked | L10: owner | M10: notes
I11: =IF(H11="","",TODAY()-H11) | J11: =IF(I11="","unknown",IF(I11<=14,"fresh",IF(I11<=30,"aging","stale"))) -> unknown
I12: =IF(H12="","",TODAY()-H12) | J12: =IF(I12="","unknown",IF(I12<=14,"fresh",IF(I12<=30,"aging","stale"))) -> unknown
I13: =IF(H13="","",TODAY()-H13) | J13: =IF(I13="","unknown",IF(I13<=14,"fresh",IF(I13<=30,"aging","stale"))) -> unknown
I14: =IF(H14="","",TODAY()-H14) | J14: =IF(I14="","unknown",IF(I14<=14,"fresh",IF(I14<=30,"aging","stale"))) -> unknown
I15: =IF(H15="","",TODAY()-H15) | J15: =IF(I15="","unknown",IF(I15<=14,"fresh",IF(I15<=30,"aging","stale"))) -> unknown
I16: =IF(H16="","",TODAY()-H16) | J16: =IF(I16="","unknown",IF(I16<=14,"fresh",IF(I16<=30,"aging","stale"))) -> unknown
I17: =IF(H17="","",TODAY()-H17) | J17: =IF(I17="","unknown",IF(I17<=14,"fresh",IF(I17<=30,"aging","stale"))) -> unknown
I18: =IF(H18="","",TODAY()-H18) | J18: =IF(I18="","unknown",IF(I18<=14,"fresh",IF(I18<=30,"aging","stale"))) -> unknown
I19: =IF(H19="","",TODAY()-H19) | J19: =IF(I19="","unknown",IF(I19<=14,"fresh",IF(I19<=30,"aging","stale"))) -> unknown
I20: =IF(H20="","",TODAY()-H20) | J20: =IF(I20="","unknown",IF(I20<=14,"fresh",IF(I20<=30,"aging","stale"))) -> unknown

Sheet Impostor Watch
A1: domain | B1: first_seen | C1: serp_position | D1: query | E1: sells_online | F1: evidence_url | G1: action | H1: action_date | I1: status | J1: owner
A2: mittenextractsshop.com | B2: 2026-10-25 | C2: 2 | D2: buy mitten extracts online | E2: yes | F2: https://mittenextractsshop.com/ | G2: monitor | I2: open
A3: mittenextractstore.com | B3: 2026-10-25 | C3: 3, 8 | D3: buy mitten extracts online | E3: yes | F3: https://mittenextractstore.com/ | G3: monitor | I3: open
A4: mittenextractsdisposable.com | B4: 2026-10-25 | C4: 5 | D4: buy mitten extracts online | E4: yes | F4: https://mittenextractsdisposable.com/ | G4: monitor | I4: open
A5: mittensextracts.com | B5: 2026-10-25 | C5: 6 | D5: buy mitten extracts online | E5: yes | F5: https://mittensextracts.com/ | G5: monitor | I5: open
A6: mittenextractsca.com | B6: 2026-10-25 | C6: 7, 10 | D6: buy mitten extracts online | E6: yes | F6: https://mittenextractsca.com/ | G6: monitor | I6: open
A7: mittenextractscartsofficial.com | B7: 2026-10-25 | C7: 9 | D7: buy mitten extracts online | E7: yes | F7: https://mittenextractscartsofficial.com/ | G7: monitor | I7: open
A8: mittenextractss.com | B8: 2026-10-25 | C8: beyond 10 | D8: buy mitten extracts online | E8: no | F8: https://mittenextractss.com/ | G8: monitor | I8: open
A10: Blank copy
A11: domain | B11: first_seen | C11: serp_position | D11: query | E11: sells_online | F11: evidence_url | G11: action | H11: action_date | I11: status | J11: owner
A21: "sells_online" means the site shows prices and an add-to-cart or checkout button. Shipping was not verified. Do not visit these domains to buy.

Sheet Scores
A1: landing_type | B1: score | C1: hops_to_product
A2: homepage | B2: 0 | C2: 4
A3: store list | B3: 1 | C3: 3
A4: store menu | B4: 1 | C4: 2
A5: menu filtered to brand | B5: 2 | C5: 1
A6: the product | B6: 3 | C6: 0
